BEGIN:VCALENDAR
VERSION:2.0
PRODID:-//Houston Food Bank - ECPv6.15.20//NONSGML v1.0//EN
CALSCALE:GREGORIAN
METHOD:PUBLISH
X-WR-CALNAME:Houston Food Bank
X-ORIGINAL-URL:https://www.houstonfoodbank.org
X-WR-CALDESC:Events for Houston Food Bank
REFRESH-INTERVAL;VALUE=DURATION:PT1H
X-Robots-Tag:noindex
X-PUBLISHED-TTL:PT1H
BEGIN:VTIMEZONE
TZID:America/Chicago
BEGIN:DAYLIGHT
TZOFFSETFROM:-0600
TZOFFSETTO:-0500
TZNAME:CDT
DTSTART:20240310T080000
END:DAYLIGHT
BEGIN:STANDARD
TZOFFSETFROM:-0500
TZOFFSETTO:-0600
TZNAME:CST
DTSTART:20241103T070000
END:STANDARD
BEGIN:DAYLIGHT
TZOFFSETFROM:-0600
TZOFFSETTO:-0500
TZNAME:CDT
DTSTART:20250309T080000
END:DAYLIGHT
BEGIN:STANDARD
TZOFFSETFROM:-0500
TZOFFSETTO:-0600
TZNAME:CST
DTSTART:20251102T070000
END:STANDARD
BEGIN:DAYLIGHT
TZOFFSETFROM:-0600
TZOFFSETTO:-0500
TZNAME:CDT
DTSTART:20260308T080000
END:DAYLIGHT
BEGIN:STANDARD
TZOFFSETFROM:-0500
TZOFFSETTO:-0600
TZNAME:CST
DTSTART:20261101T070000
END:STANDARD
END:VTIMEZONE
BEGIN:VEVENT
DTSTART;VALUE=DATE:20250528
DTEND;VALUE=DATE:20250816
DTSTAMP:20260422T075004
CREATED:20250605T210148Z
LAST-MODIFIED:20250619T152157Z
UID:22051-1748390400-1755302399@www.houstonfoodbank.org
SUMMARY:SNAP Summer Tour
DESCRIPTION:This summer\, Houston Food Bank’s Community Assistance Program (CAP) is hitting the road! Our SNAP Mobile Unit will be traveling throughout the Greater Houston area to help individuals and families apply for SNAP and other vital programs. Stop by to connect with our team of trained navigators and learn how we can support you with application assistance for: \n\nSNAP (Supplemental Nutrition Assistance Program)\nTANF (Temporary Assistance for Needy Families)\nCHIP & CHIP Perinatal\nMedicaid\nMedicare Savings Program\nHealthy Texas Women\n\nNo appointment needed—just come by and get the help you need\, close to home. \nTour Dates and Locations\nLord of the Streets — June 6\, 9am-3pm\n3401 Fannin St\, Houston\, TX 77004\nNew Hope Housing-Harrisburg — June 13\, 9am-3pm\n3315 Harrisburg Blvd #400\, Houston\, TX 77003\nJuneteenth Festival — June 14\, 11am-5pm\n1990 Airport Blvd\, Houston\, TX 77051\nInterfaith Ministries for Greater Houston & Lord of the Streets — June 20\, 9am-3pm\n3303 Main St\, Houston\, TX 77002\nNew Hope Housing-Canal — June 27\, 9am-3pm\n2821 Canal St\, Houston\, TX 77003\nRainbow on the Green — June 27\, 7-10pm\nDiscovery Green-1500 McKinney St\, Houston\, TX 77010\nFreedom over Texas — July 4\, 4-10pm\nEleanor Tinsley Park-18-3600 Allen Pkwy\, Houston\, TX 77019\nOxford Place — July 11\, 9am-3pm\n605 Berry Rd\, Houston\, TX 77022\nCuney Homes — July 18\, 9am-3pm\n3260 Truxillo St\, Houston\, TX 77004\nCatholic Charities Guadalupe Family Assistance Center — August 1\, 9am-3pm\n326 S Jensen Dr\, Houston\, TX 77003\nMayor’s Back to School — August 2\, 8am-2pm\n1001 Avenida De Las Americas\, Houston\, TX 77010\nNew Hope Housing-Brays — August 8\, 9am-3pm\n6311 Gulf Fwy\, Houston\, TX 77023\nMental Health Awareness Block Party — August 9\, 11am-2pm\n3018 Emancipation Ave Houston\, TX 77004\nBayland Community Center — August 15\, 9:30am-3:30pm\n6400 Bissonnet St\, Houston\, TX 77074
URL:https://www.houstonfoodbank.org/upcomingevent/snap-summer-tour/
CATEGORIES:Community Assistance,FEATURED,SNAP
ATTACH;FMTTYPE=image/jpeg:https://www.houstonfoodbank.org/wp-content/uploads/2025/06/SNAPsummertour-1200x900-1.jpg
END:VEVENT
END:VCALENDAR